BEGIN:VCALENDAR
VERSION:2.0
PRODID:-//Plone.org//NONSGML plone.app.event//EN
X-WR-TIMEZONE:Europe/Madrid
BEGIN:VEVENT
SUMMARY:Blocs i sociolingüística
DTSTART;TZID=Europe/Madrid;VALUE=DATE-TIME:20070303T190000
DTEND;TZID=Europe/Madrid;VALUE=DATE-TIME:20070303T200000
DTSTAMP;VALUE=DATE-TIME:20260420T190903Z
UID:ff50e65fd4a711bbeb6f417cf1d088d9
CREATED;VALUE=DATE-TIME:20070303T000000Z
CATEGORIES:Conferència
LOCATION:Calisay/Sala Noble
ORGANIZER:ASOLC-Arenys de Mar i Arenys.org
DESCRIPTION:Els blocs, una eina de difusió de la sociolingüística
URL:https://arenysdemar.cat/document.php?id=17071
END:VEVENT
END:VCALENDAR