BEGIN:VCALENDAR
VERSION:2.0
PRODID:-//Plone.org//NONSGML plone.app.event//EN
X-WR-TIMEZONE:Europe/Madrid
BEGIN:VEVENT
SUMMARY:Robert Gordon Orquestra
DTSTART;TZID=Europe/Madrid;VALUE=DATE-TIME:20070629T230000
DTEND;TZID=Europe/Madrid;VALUE=DATE-TIME:20070630T000000
DTSTAMP;VALUE=DATE-TIME:20260424T043258Z
UID:9737c39401ee0de137e208e03da49353
CREATED;VALUE=DATE-TIME:20070629T000000Z
CATEGORIES:Música
LOCATION:C.C.Calisay/Polivalent
ORGANIZER:Regidoria de Cultura i Goes Travel
COMMENT:Preu: entrada lliure
DESCRIPTION:Música celta
URL:https://arenysdemar.cat/document.php?id=17082
END:VEVENT
END:VCALENDAR