BEGIN:VCALENDAR
VERSION:2.0
PRODID:-//Plone.org//NONSGML plone.app.event//EN
X-WR-TIMEZONE:Europe/Madrid
BEGIN:VEVENT
SUMMARY:XXIX Marxa popular
DTSTART;TZID=Europe/Madrid;VALUE=DATE-TIME:20070527T080000
DTEND;TZID=Europe/Madrid;VALUE=DATE-TIME:20070527T090000
DTSTAMP;VALUE=DATE-TIME:20260423T150742Z
UID:aea81fb43ce4d5c49242cbff0e971837
CREATED;VALUE=DATE-TIME:20070527T000000Z
CATEGORIES:Esports
LOCATION:Parc de Lurdes
ORGANIZER:Penya Apa Anem-hi
URL:https://arenysdemar.cat/document.php?id=17252
END:VEVENT
END:VCALENDAR