BEGIN:VCALENDAR
VERSION:2.0
PRODID:-//Plone.org//NONSGML plone.app.event//EN
X-WR-TIMEZONE:Europe/Madrid
BEGIN:VEVENT
SUMMARY:Ball a l'Ateneu
DTSTART;TZID=Europe/Madrid;VALUE=DATE-TIME:20070519T223000
DTEND;TZID=Europe/Madrid;VALUE=DATE-TIME:20070519T233000
DTSTAMP;VALUE=DATE-TIME:20260424T112240Z
UID:5d8d7c27827d7f70d0735c29a456c82d
CREATED;VALUE=DATE-TIME:20070519T000000Z
CATEGORIES:Música
LOCATION:Ateneu Arenyenc
ORGANIZER:Ateneu Arenyenc
DESCRIPTION:amb La petita Paradís
URL:https://arenysdemar.cat/document.php?id=17267
END:VEVENT
END:VCALENDAR