BEGIN:VCALENDAR
VERSION:2.0
PRODID:-//Plone.org//NONSGML plone.app.event//EN
X-WR-TIMEZONE:Europe/Madrid
BEGIN:VEVENT
SUMMARY:Conferència sobre la memòria històrica del cinema republicà i la productora creada per la Generalitat  de Catalunya
DTSTART;TZID=Europe/Madrid;VALUE=DATE-TIME:20070414T190000
DTEND;TZID=Europe/Madrid;VALUE=DATE-TIME:20070414T200000
DTSTAMP;VALUE=DATE-TIME:20260421T010925Z
UID:1f5e4ffe7409de8513b94a542b32f0e7
CREATED;VALUE=DATE-TIME:20070414T000000Z
CATEGORIES:Conferència
LOCATION:Calisay/Sala Noble
ORGANIZER:Centre d'Estudis Josep Baralt
DESCRIPTION:Laya Films, una productora cinematogràfica en temps de guerra
URL:https://arenysdemar.cat/document.php?id=17280
END:VEVENT
END:VCALENDAR