BEGIN:VCALENDAR
VERSION:2.0
PRODID:-//Plone.org//NONSGML plone.app.event//EN
X-WR-TIMEZONE:Europe/Madrid
BEGIN:VEVENT
SUMMARY:25 anys del cau
DTSTART;TZID=Europe/Madrid;VALUE=DATE-TIME:20070527T100000
DTEND;TZID=Europe/Madrid;VALUE=DATE-TIME:20070527T110000
DTSTAMP;VALUE=DATE-TIME:20260420T185333Z
UID:81de0da1c00a3c879c7a679d3f8696d5
CREATED;VALUE=DATE-TIME:20070527T000000Z
CATEGORIES:Festa
LOCATION:Casa de Colònies Can Plana Vallgorguina
ORGANIZER:Cau Sant Francesc
COMMENT:Preu: 10&euro;
DESCRIPTION:Trobada exmonitors del cau
URL:https://arenysdemar.cat/document.php?id=17429
END:VEVENT
END:VCALENDAR