BEGIN:VCALENDAR
VERSION:2.0
PRODID:-//Plone.org//NONSGML plone.app.event//EN
X-WR-TIMEZONE:Europe/Madrid
BEGIN:VEVENT
SUMMARY:Animació màgica amb patins
DTSTART;TZID=Europe/Madrid;VALUE=DATE-TIME:20070708T210000
DTEND;TZID=Europe/Madrid;VALUE=DATE-TIME:20070708T220000
DTSTAMP;VALUE=DATE-TIME:20260422T080008Z
UID:60630bbed9fa5b34e63b4fa791512c54
CREATED;VALUE=DATE-TIME:20070708T000000Z
CATEGORIES:Festa
LOCATION:Riera, entre el C.C.Calisay i la plaça de l'Església
ORGANIZER:Regidoria de Cultura
DESCRIPTION:a càrrec d'Enric Magoo
URL:https://arenysdemar.cat/document.php?id=17537
END:VEVENT
END:VCALENDAR