BEGIN:VCALENDAR
VERSION:2.0
PRODID:-//Plone.org//NONSGML plone.app.event//EN
X-WR-TIMEZONE:Europe/Madrid
BEGIN:VEVENT
SUMMARY:Míster Glòbix
DTSTART;TZID=Europe/Madrid;VALUE=DATE-TIME:20070709T210000
DTEND;TZID=Europe/Madrid;VALUE=DATE-TIME:20070709T220000
DTSTAMP;VALUE=DATE-TIME:20260421T184421Z
UID:444050afef411e53bd47f15ba872df68
CREATED;VALUE=DATE-TIME:20070709T000000Z
CATEGORIES:Festa
LOCATION:Riera, entre el Calisay i la plaça de l'Ajuntament
ORGANIZER:Regidoria de Cultura
DESCRIPTION:a carrec de La Katracòlica
URL:https://arenysdemar.cat/document.php?id=17539
END:VEVENT
END:VCALENDAR