BEGIN:VCALENDAR
VERSION:2.0
PRODID:-//Plone.org//NONSGML plone.app.event//EN
X-WR-TIMEZONE:Europe/Madrid
BEGIN:VEVENT
SUMMARY:Festa al carrer d'Avall
DTSTART;TZID=Europe/Madrid;VALUE=DATE-TIME:20070714T000000
DTEND;TZID=Europe/Madrid;VALUE=DATE-TIME:20070714T010000
DTSTAMP;VALUE=DATE-TIME:20260420T185843Z
UID:bac073d00ac02b686c1cdeb8ffb24c51
CREATED;VALUE=DATE-TIME:20070714T000000Z
CATEGORIES:Festa
LOCATION:Carrer d'Avall - Plaça Flos i Calcat
ORGANIZER:Comissió de festes del Carrer d'Avall
URL:https://arenysdemar.cat/document.php?id=17555
END:VEVENT
END:VCALENDAR