BEGIN:VCALENDAR
VERSION:2.0
PRODID:-//Plone.org//NONSGML plone.app.event//EN
X-WR-TIMEZONE:Europe/Madrid
BEGIN:VEVENT
SUMMARY:Festa de l'AVANA
DTSTART;TZID=Europe/Madrid;VALUE=DATE-TIME:20070929T210000
DTEND;TZID=Europe/Madrid;VALUE=DATE-TIME:20070929T220000
DTSTAMP;VALUE=DATE-TIME:20260420T185018Z
UID:f02721e24ee2a9c46bd89dbf6b582965
CREATED;VALUE=DATE-TIME:20070929T000000Z
CATEGORIES:Festa
LOCATION:Calisay/Sala Polivalent
ORGANIZER:Associació de Veïns del Nucli Antic
DESCRIPTION:Sopar de germanor
URL:https://arenysdemar.cat/document.php?id=17557
END:VEVENT
END:VCALENDAR