BEGIN:VCALENDAR
VERSION:2.0
PRODID:-//Plone.org//NONSGML plone.app.event//EN
X-WR-TIMEZONE:Europe/Madrid
BEGIN:VEVENT
SUMMARY:Acte institucional
DTSTART;TZID=Europe/Madrid;VALUE=DATE-TIME:20070603T123000
DTEND;TZID=Europe/Madrid;VALUE=DATE-TIME:20070603T133000
DTSTAMP;VALUE=DATE-TIME:20260420T214610Z
UID:9c76827fe10023514e119c6af7019726
CREATED;VALUE=DATE-TIME:20070603T000000Z
CATEGORIES:Conferència
LOCATION:Biblioteca
ORGANIZER:Biblioteca-Regidoria de Cultura
DESCRIPTION:Amb la participació dels actors Mercè Pons i David Selvas
URL:https://arenysdemar.cat/document.php?id=17570
END:VEVENT
END:VCALENDAR