BEGIN:VCALENDAR
VERSION:2.0
PRODID:-//Plone.org//NONSGML plone.app.event//EN
X-WR-TIMEZONE:Europe/Madrid
BEGIN:VEVENT
SUMMARY:25 anys del Cau Sant Francesc
DTSTART;TZID=Europe/Madrid;VALUE=DATE-TIME:20070714T213000
DTEND;TZID=Europe/Madrid;VALUE=DATE-TIME:20070714T223000
DTSTAMP;VALUE=DATE-TIME:20260421T010940Z
UID:cf9ac2ede68c6ab42f7a0a39be1e5d3d
CREATED;VALUE=DATE-TIME:20070714T000000Z
LOCATION:Sala Polivalent del C.C.Calisay
ORGANIZER:Cau Sant Francesc
COMMENT:Preu: Cal adquirir prèviament els tiquets
DESCRIPTION:Sopar i concert amb Kumbes del Mambo
URL:https://arenysdemar.cat/document.php?id=17681
END:VEVENT
END:VCALENDAR