BEGIN:VCALENDAR
VERSION:2.0
PRODID:-//Plone.org//NONSGML plone.app.event//EN
X-WR-TIMEZONE:Europe/Madrid
BEGIN:VEVENT
SUMMARY:Tradicional dansa d'Arenys de Mar
DTSTART;TZID=Europe/Madrid;VALUE=DATE-TIME:20070816T200000
DTEND;TZID=Europe/Madrid;VALUE=DATE-TIME:20070816T210000
DTSTAMP;VALUE=DATE-TIME:20260424T022730Z
UID:11c953c5b830e98edc97920d1a1446df
CREATED;VALUE=DATE-TIME:20070816T000000Z
CATEGORIES:Dansa
LOCATION:Plaça de l'Església
ORGANIZER:Regidoria de Cultura i l'Esbart Maragall del Casal de Joventut Seràfica
DESCRIPTION:Interpretada per l'Esbart Maragall de Joventut Seràfica, acompanyats per la cobla Principal de Llobregat
URL:https://arenysdemar.cat/document.php?id=17698
END:VEVENT
END:VCALENDAR