BEGIN:VCALENDAR
VERSION:2.0
PRODID:-//Plone.org//NONSGML plone.app.event//EN
X-WR-TIMEZONE:Europe/Madrid
BEGIN:VEVENT
SUMMARY:25a. Pedalejada Popular
DTSTART;TZID=Europe/Madrid;VALUE=DATE-TIME:20070815T090000
DTEND;TZID=Europe/Madrid;VALUE=DATE-TIME:20070815T100000
DTSTAMP;VALUE=DATE-TIME:20260423T231901Z
UID:a07b892b7af8c5eb94d4687afdb2d42b
CREATED;VALUE=DATE-TIME:20070815T000000Z
CATEGORIES:Esports
LOCATION:Riera, davant el C.C.Calisay
ORGANIZER:UBICA
URL:https://arenysdemar.cat/document.php?id=17748
END:VEVENT
END:VCALENDAR