BEGIN:VCALENDAR
VERSION:2.0
PRODID:-//Plone.org//NONSGML plone.app.event//EN
X-WR-TIMEZONE:Europe/Madrid
BEGIN:VEVENT
SUMMARY:Audició curta de sardanes
DTSTART;TZID=Europe/Madrid;VALUE=DATE-TIME:20070816T203000
DTEND;TZID=Europe/Madrid;VALUE=DATE-TIME:20070816T213000
DTSTAMP;VALUE=DATE-TIME:20260423T165308Z
UID:f71123fdb48f60c6f1ecd1a8cfa079d6
CREATED;VALUE=DATE-TIME:20070816T000000Z
CATEGORIES:Dansa
LOCATION:Riera, davant la plaça de l'Església
ORGANIZER:Regidoria de Cultura
DESCRIPTION:a càrrec de la cobla Principal de Llobregat
URL:https://arenysdemar.cat/document.php?id=17757
END:VEVENT
END:VCALENDAR