BEGIN:VCALENDAR
VERSION:2.0
PRODID:-//Plone.org//NONSGML plone.app.event//EN
X-WR-TIMEZONE:Europe/Madrid
BEGIN:VEVENT
SUMMARY:Hora del Conte i Taller per a infants
DTSTART;TZID=Europe/Madrid;VALUE=DATE-TIME:20070823T183000
DTEND;TZID=Europe/Madrid;VALUE=DATE-TIME:20070823T193000
DTSTAMP;VALUE=DATE-TIME:20260421T011342Z
UID:d99641afd37d63aaf012c949690f27fd
CREATED;VALUE=DATE-TIME:20070823T000000Z
CATEGORIES:Infantils
LOCATION:Biblioplatja
ORGANIZER:Biblioteca - Regidoria de Cultura
DESCRIPTION:Contes per quedar ben tips a càrrec de Mireia Peña
URL:https://arenysdemar.cat/document.php?id=17778
END:VEVENT
END:VCALENDAR