BEGIN:VCALENDAR
VERSION:2.0
PRODID:-//Plone.org//NONSGML plone.app.event//EN
X-WR-TIMEZONE:Europe/Madrid
BEGIN:VEVENT
SUMMARY:IV Festival de contes: Todo lo que se nombra existe o Los vascos en el País de las Maravillas
DTSTART;TZID=Europe/Madrid;VALUE=DATE-TIME:20070822T173000
DTEND;TZID=Europe/Madrid;VALUE=DATE-TIME:20070822T183000
DTSTAMP;VALUE=DATE-TIME:20260420T150828Z
UID:2648e7cc8ad264867f4aa786fbaa6472
CREATED;VALUE=DATE-TIME:20070822T000000Z
CATEGORIES:Literatura
LOCATION:Residència d'avis Asil Torrent
ORGANIZER:Regidoria de cultura
DESCRIPTION:a càrrec de Josemari Carrere
URL:https://arenysdemar.cat/document.php?id=17794
END:VEVENT
END:VCALENDAR