BEGIN:VCALENDAR
VERSION:2.0
PRODID:-//Plone.org//NONSGML plone.app.event//EN
X-WR-TIMEZONE:Europe/Madrid
BEGIN:VEVENT
SUMMARY:IV Festival de contes: El melic de la mOn
DTSTART;TZID=Europe/Madrid;VALUE=DATE-TIME:20070829T173000
DTEND;TZID=Europe/Madrid;VALUE=DATE-TIME:20070829T183000
DTSTAMP;VALUE=DATE-TIME:20260424T024505Z
UID:a1aedb09a09833262d0ca258d6024182
CREATED;VALUE=DATE-TIME:20070829T000000Z
CATEGORIES:Literatura
LOCATION:Residència d'avis Itaca
ORGANIZER:Regidoria de Cultura
DESCRIPTION:a càrrec de Mon Mas
URL:https://arenysdemar.cat/document.php?id=17795
END:VEVENT
END:VCALENDAR