BEGIN:VCALENDAR
VERSION:2.0
PRODID:-//Plone.org//NONSGML plone.app.event//EN
X-WR-TIMEZONE:Europe/Madrid
BEGIN:VEVENT
SUMMARY:Concert de Relk
DTSTART;TZID=Europe/Madrid;VALUE=DATE-TIME:20070831T203000
DTEND;TZID=Europe/Madrid;VALUE=DATE-TIME:20070831T213000
DTSTAMP;VALUE=DATE-TIME:20260420T171912Z
UID:a9008b456e63610aba3f68c8a7d8fd29
CREATED;VALUE=DATE-TIME:20070831T000000Z
CATEGORIES:Música
LOCATION:A l'entrada del mercat municipal
ORGANIZER:Arenys.Org
URL:https://arenysdemar.cat/document.php?id=17922
END:VEVENT
END:VCALENDAR