BEGIN:VCALENDAR
VERSION:2.0
PRODID:-//Plone.org//NONSGML plone.app.event//EN
X-WR-TIMEZONE:Europe/Madrid
BEGIN:VEVENT
SUMMARY:Presentació del llibre L'Esquerra Independentista, avui, de Roger Buch
DTSTART;TZID=Europe/Madrid;VALUE=DATE-TIME:20070905T193000
DTEND;TZID=Europe/Madrid;VALUE=DATE-TIME:20070905T203000
DTSTAMP;VALUE=DATE-TIME:20260424T112504Z
UID:35e5b273a6a06e249552ce937d6f8ed2
CREATED;VALUE=DATE-TIME:20070905T000000Z
LOCATION:Sala Noble del C.C.Calisay
ORGANIZER:Arenys.Org
DESCRIPTION:Un llibre amb
bloc

URL:https://arenysdemar.cat/document.php?id=17923
END:VEVENT
END:VCALENDAR