BEGIN:VCALENDAR
VERSION:2.0
PRODID:-//Plone.org//NONSGML plone.app.event//EN
X-WR-TIMEZONE:Europe/Madrid
BEGIN:VEVENT
SUMMARY:Què són estatpropi.cat i la XBS?
DTSTART;TZID=Europe/Madrid;VALUE=DATE-TIME:20070908T190000
DTEND;TZID=Europe/Madrid;VALUE=DATE-TIME:20070908T200000
DTSTAMP;VALUE=DATE-TIME:20260419T154503Z
UID:889b411d217ee2663db5e597b25ac1a6
CREATED;VALUE=DATE-TIME:20070908T000000Z
CATEGORIES:Conferència
LOCATION:Auditori J.M. Arnau del C.C.Calisay
ORGANIZER:Arenys.Org
DESCRIPTION:Presentació d'aquestes dues iniciatives sorgides a Internet
URL:https://arenysdemar.cat/document.php?id=17924
END:VEVENT
END:VCALENDAR