BEGIN:VCALENDAR
VERSION:2.0
PRODID:-//Plone.org//NONSGML plone.app.event//EN
X-WR-TIMEZONE:Europe/Madrid
BEGIN:VEVENT
SUMMARY:Cantada d'Havaneres
DTSTART;TZID=Europe/Madrid;VALUE=DATE-TIME:20070922T190000
DTEND;TZID=Europe/Madrid;VALUE=DATE-TIME:20070922T200000
DTSTAMP;VALUE=DATE-TIME:20260424T011034Z
UID:4f2953b91c8231fd7f2923a70560d7f8
CREATED;VALUE=DATE-TIME:20070922T000000Z
CATEGORIES:Música
LOCATION:Club Pesca Mar Esport
ORGANIZER:Club Pesca Mar Esport i Coral l'Esperança
COMMENT:Preu: Gratuït
DESCRIPTION:a càrrec de la Coral L'Esperança
URL:https://arenysdemar.cat/document.php?id=17925
END:VEVENT
END:VCALENDAR