BEGIN:VCALENDAR
VERSION:2.0
PRODID:-//Plone.org//NONSGML plone.app.event//EN
X-WR-TIMEZONE:Europe/Madrid
BEGIN:VEVENT
SUMMARY:El maravilloso y mágico mundo de los Sueños. La Puerta hacia la Intuición
DTSTART;TZID=Europe/Madrid;VALUE=DATE-TIME:20071109T190000
DTEND;TZID=Europe/Madrid;VALUE=DATE-TIME:20071109T200000
DTSTAMP;VALUE=DATE-TIME:20260424T061601Z
UID:203485cf13a13f21bcff80c259cdd31e
CREATED;VALUE=DATE-TIME:20071109T000000Z
CATEGORIES:Conferència
LOCATION:Auditori J.M. Arnau del C.C.Calisay
ORGANIZER:Denis Astelar
URL:https://arenysdemar.cat/document.php?id=17936
END:VEVENT
END:VCALENDAR