BEGIN:VCALENDAR
VERSION:2.0
PRODID:-//Plone.org//NONSGML plone.app.event//EN
X-WR-TIMEZONE:Europe/Madrid
BEGIN:VEVENT
SUMMARY:La classe neutra
DTSTART;TZID=Europe/Madrid;VALUE=DATE-TIME:20071216T190000
DTEND;TZID=Europe/Madrid;VALUE=DATE-TIME:20071216T200000
DTSTAMP;VALUE=DATE-TIME:20260425T131958Z
UID:fdddbd4e0a77dfc58c7ae1bf228131c6
CREATED;VALUE=DATE-TIME:20071216T000000Z
CATEGORIES:Teatre
LOCATION:Teatre principal
ORGANIZER:SC L'Esperança - Regidoria de Cultura
COMMENT:Preu: 10 &euro;
DESCRIPTION:a càrrec de Fènix Teatre
URL:https://arenysdemar.cat/document.php?id=17968
END:VEVENT
END:VCALENDAR