BEGIN:VCALENDAR
VERSION:2.0
PRODID:-//Plone.org//NONSGML plone.app.event//EN
X-WR-TIMEZONE:Europe/Madrid
BEGIN:VEVENT
SUMMARY:Taller de blogs: Apreneu a mantenir un bloc d'Arenyautes
DTSTART;TZID=Europe/Madrid;VALUE=DATE-TIME:20070901T180000
DTEND;TZID=Europe/Madrid;VALUE=DATE-TIME:20070901T190000
DTSTAMP;VALUE=DATE-TIME:20260426T054149Z
UID:7ede67b2cae383811866a1ae54afeadd
CREATED;VALUE=DATE-TIME:20070901T000000Z
CATEGORIES:Cursos
LOCATION:Espai Jove del C.C.Calisay
ORGANIZER:Arenys.Org
DESCRIPTION:a càrrec de Dènia Muñoz i Xavier Mir
URL:https://arenysdemar.cat/document.php?id=17972
END:VEVENT
END:VCALENDAR