BEGIN:VCALENDAR
VERSION:2.0
PRODID:-//Plone.org//NONSGML plone.app.event//EN
X-WR-TIMEZONE:Europe/Madrid
BEGIN:VEVENT
SUMMARY:Commemoració del 67è aniversari de l'afusellament del president Lluís Companys
DTSTART;TZID=Europe/Madrid;VALUE=DATE-TIME:20071015T070000
DTEND;TZID=Europe/Madrid;VALUE=DATE-TIME:20071015T080000
DTSTAMP;VALUE=DATE-TIME:20260420T185432Z
UID:401bed2d13c8892e530ab17f055816ed
CREATED;VALUE=DATE-TIME:20071015T000000Z
CATEGORIES:Festa
LOCATION:Parc de Lurdes
ORGANIZER:Secció Local d'ERC
URL:https://arenysdemar.cat/document.php?id=17998
END:VEVENT
END:VCALENDAR