BEGIN:VCALENDAR
VERSION:2.0
PRODID:-//Plone.org//NONSGML plone.app.event//EN
X-WR-TIMEZONE:Europe/Madrid
BEGIN:VEVENT
SUMMARY:Tram final de la Riera: una solució Natural
DTSTART;TZID=Europe/Madrid;VALUE=DATE-TIME:20070927T200000
DTEND;TZID=Europe/Madrid;VALUE=DATE-TIME:20070927T210000
DTSTAMP;VALUE=DATE-TIME:20260424T010517Z
UID:47c8a03e6af4fee6fbd1af4aa5d134c4
CREATED;VALUE=DATE-TIME:20070927T000000Z
CATEGORIES:Conferència
LOCATION:Sala Noble del C.C.Calisay
ORGANIZER:AVANA i Agrupació d'entitats arenyenques
DESCRIPTION:Presentat per la biòloga arenyenca Carme Buixalleu
URL:https://arenysdemar.cat/document.php?id=18003
END:VEVENT
END:VCALENDAR