BEGIN:VCALENDAR
VERSION:2.0
PRODID:-//Plone.org//NONSGML plone.app.event//EN
X-WR-TIMEZONE:Europe/Madrid
BEGIN:VEVENT
SUMMARY:Conferència: Sant Zenon, patró d'Arenys... i de la gaia vila de Luzaga
DTSTART;TZID=Europe/Madrid;VALUE=DATE-TIME:20071005T200000
DTEND;TZID=Europe/Madrid;VALUE=DATE-TIME:20071005T210000
DTSTAMP;VALUE=DATE-TIME:20260421T092915Z
UID:c2adaeeb8007cbd7c027e21142836652
CREATED;VALUE=DATE-TIME:20071005T000000Z
CATEGORIES:Conferència
LOCATION:Biblioteca
ORGANIZER:Biblioteca - Regidoria de Cultura
DESCRIPTION:A càrrec de Ramon Verdaguer
URL:https://arenysdemar.cat/document.php?id=18016
END:VEVENT
END:VCALENDAR