BEGIN:VCALENDAR
VERSION:2.0
PRODID:-//Plone.org//NONSGML plone.app.event//EN
X-WR-TIMEZONE:Europe/Madrid
BEGIN:VEVENT
SUMMARY:Festival d'Universos Musicals (FUM)
DTSTART;TZID=Europe/Madrid;VALUE=DATE-TIME:20071020T200000
DTEND;TZID=Europe/Madrid;VALUE=DATE-TIME:20071020T210000
DTSTAMP;VALUE=DATE-TIME:20260424T043424Z
UID:eeb123861cdd3b409e0893deb50d695d
CREATED;VALUE=DATE-TIME:20071020T000000Z
CATEGORIES:Música
LOCATION:al Centre Cultural Calisay
ORGANIZER:Transports Ciberians i Regidoria de cultura
COMMENT:Preu: 12&euro;
DESCRIPTION:amb les actuacions de Pau Guillamino i Josep Pedrals/Endoll+Reactable, Acustic MiNiM Miqui Puig, Carles Carolina, Miau Miau i Yes Robot
URL:https://arenysdemar.cat/document.php?id=18035
END:VEVENT
END:VCALENDAR