BEGIN:VCALENDAR
VERSION:2.0
PRODID:-//Plone.org//NONSGML plone.app.event//EN
X-WR-TIMEZONE:Europe/Madrid
BEGIN:VEVENT
SUMMARY:XVIIIè Cros dels Arenys
DTSTART;TZID=Europe/Madrid;VALUE=DATE-TIME:20071118T094500
DTEND;TZID=Europe/Madrid;VALUE=DATE-TIME:20071118T104500
DTSTAMP;VALUE=DATE-TIME:20260420T185639Z
UID:d70ebc93cac5daa46fcf81dea49ce721
CREATED;VALUE=DATE-TIME:20071118T000000Z
CATEGORIES:Esports
LOCATION:Can Jalpí
ORGANIZER:Ajuntaments d'Arenys de Mar i d'Arenys de Munt, Penya Apa Anem-hi i Consell Esportiu del Maresme
URL:https://arenysdemar.cat/document.php?id=18127
END:VEVENT
END:VCALENDAR