BEGIN:VCALENDAR
VERSION:2.0
PRODID:-//Plone.org//NONSGML plone.app.event//EN
X-WR-TIMEZONE:Europe/Madrid
BEGIN:VEVENT
SUMMARY:Audició de Sardanes
DTSTART;TZID=Europe/Madrid;VALUE=DATE-TIME:20080423T193000
DTEND;TZID=Europe/Madrid;VALUE=DATE-TIME:20080423T203000
DTSTAMP;VALUE=DATE-TIME:20260420T153500Z
UID:9a04b8105304e6b985650ace5bf7c3bb
CREATED;VALUE=DATE-TIME:20080423T000000Z
CATEGORIES:Dansa
LOCATION:Plaça de l'Església
ORGANIZER:Regidoria de Cultura i Secció Sardanista de l'Ateneu Arenyenc
DESCRIPTION:a càrrec de la Cobla Mediterrània
URL:https://arenysdemar.cat/document.php?id=18188
END:VEVENT
END:VCALENDAR