BEGIN:VCALENDAR
VERSION:2.0
PRODID:-//Plone.org//NONSGML plone.app.event//EN
X-WR-TIMEZONE:Europe/Madrid
BEGIN:VEVENT
SUMMARY:Una cara nova
DTSTART;TZID=Europe/Madrid;VALUE=DATE-TIME:20080119T220000
DTEND;TZID=Europe/Madrid;VALUE=DATE-TIME:20080119T230000
DTSTAMP;VALUE=DATE-TIME:20260420T165600Z
UID:ee8d6cfa68df96612ff159b5cccba9fc
CREATED;VALUE=DATE-TIME:20080119T000000Z
CATEGORIES:Teatre
LOCATION:Teatre Principal
ORGANIZER:S.C. L'Esperança - Regidoria de Cultura
COMMENT:Preu: 10 &euro;
DESCRIPTION:a càrrec de la Cia. La Trilateral
URL:https://arenysdemar.cat/document.php?id=18218
END:VEVENT
END:VCALENDAR