BEGIN:VCALENDAR
VERSION:2.0
PRODID:-//Plone.org//NONSGML plone.app.event//EN
X-WR-TIMEZONE:Europe/Madrid
BEGIN:VEVENT
SUMMARY:Ball amb la Salseta del Poble Sec
DTSTART;TZID=Europe/Madrid;VALUE=DATE-TIME:20080814T235900
DTEND;TZID=Europe/Madrid;VALUE=DATE-TIME:20080815T005900
DTSTAMP;VALUE=DATE-TIME:20260423T132404Z
UID:700cb96f16684907d5e90cf9b7cd2457
CREATED;VALUE=DATE-TIME:20080814T000000Z
CATEGORIES:Festa,Música
LOCATION:Aparcament Platja de la Picòrdia (1a platja)
ORGANIZER:Regidoria de Cultura
URL:https://arenysdemar.cat/document.php?id=18276
END:VEVENT
END:VCALENDAR