BEGIN:VCALENDAR
VERSION:2.0
PRODID:-//Plone.org//NONSGML plone.app.event//EN
X-WR-TIMEZONE:Europe/Madrid
BEGIN:VEVENT
SUMMARY:Conferència de Món Contemporani
DTSTART;TZID=Europe/Madrid;VALUE=DATE-TIME:20080226T180000
DTEND;TZID=Europe/Madrid;VALUE=DATE-TIME:20080226T190000
DTSTAMP;VALUE=DATE-TIME:20260423T134501Z
UID:f2cd357a97bc6bc640464b46cb6f2463
CREATED;VALUE=DATE-TIME:20080226T000000Z
CATEGORIES:Conferència
LOCATION:Auditori J.M. Arnau del C.C.Calisay
ORGANIZER:Aula d'Extensió Universitària
DESCRIPTION:L'Índia d'avui. Una mirada des de Calcuta a càrrec d'Anna M. Briongos de la Universitat Pompeu Fabra
URL:https://arenysdemar.cat/document.php?id=18349
END:VEVENT
END:VCALENDAR