BEGIN:VCALENDAR
VERSION:2.0
PRODID:-//Plone.org//NONSGML plone.app.event//EN
X-WR-TIMEZONE:Europe/Madrid
BEGIN:VEVENT
SUMMARY:Sardinada popular
DTSTART;TZID=Europe/Madrid;VALUE=DATE-TIME:20080206T203000
DTEND;TZID=Europe/Madrid;VALUE=DATE-TIME:20080206T213000
DTSTAMP;VALUE=DATE-TIME:20260424T043439Z
UID:d8764a6720b3d1a72dd5060cb7e9c029
CREATED;VALUE=DATE-TIME:20080206T000000Z
CATEGORIES:Festa
LOCATION:Pati del C.C.Calisay
ORGANIZER:Branca de Dones Anna Sáez
URL:https://arenysdemar.cat/document.php?id=18371
END:VEVENT
END:VCALENDAR