BEGIN:VCALENDAR
VERSION:2.0
PRODID:-//Plone.org//NONSGML plone.app.event//EN
X-WR-TIMEZONE:Europe/Madrid
BEGIN:VEVENT
SUMMARY:La classe neutra
DTSTART;TZID=Europe/Madrid;VALUE=DATE-TIME:20080201T210000
DTEND;TZID=Europe/Madrid;VALUE=DATE-TIME:20080201T220000
DTSTAMP;VALUE=DATE-TIME:20260423T220411Z
UID:cb9da56c4cc7cefd8e97d9522c5eb4c7
CREATED;VALUE=DATE-TIME:20080201T000000Z
CATEGORIES:Teatre
LOCATION:Sala Muntaner de Barcelona
COMMENT:Preu: 16 &euro; (hi ha descomptes)
Durada: Fins al 17 de febrer
DESCRIPTION:a càrrec de Fènix Teatre
URL:https://arenysdemar.cat/document.php?id=18376
END:VEVENT
END:VCALENDAR