BEGIN:VCALENDAR
VERSION:2.0
PRODID:-//Plone.org//NONSGML plone.app.event//EN
X-WR-TIMEZONE:Europe/Madrid
BEGIN:VEVENT
SUMMARY:Ball a l'Ateneu
DTSTART;TZID=Europe/Madrid;VALUE=DATE-TIME:20080209T230000
DTEND;TZID=Europe/Madrid;VALUE=DATE-TIME:20080210T000000
DTSTAMP;VALUE=DATE-TIME:20260420T190305Z
UID:474b445b23e7dcb6e37f1f009dd217bc
CREATED;VALUE=DATE-TIME:20080209T000000Z
CATEGORIES:Música
LOCATION:a l'Ateneu Arenyenc
ORGANIZER:Ateneu Arenyenc
DESCRIPTION:amb el grup Millennium Tercet
URL:https://arenysdemar.cat/document.php?id=18396
END:VEVENT
END:VCALENDAR