BEGIN:VCALENDAR
VERSION:2.0
PRODID:-//Plone.org//NONSGML plone.app.event//EN
X-WR-TIMEZONE:Europe/Madrid
BEGIN:VEVENT
SUMMARY:Vespres al Museu
DTSTART;TZID=Europe/Madrid;VALUE=DATE-TIME:20080322T200000
DTEND;TZID=Europe/Madrid;VALUE=DATE-TIME:20080322T210000
DTSTAMP;VALUE=DATE-TIME:20260424T154559Z
UID:a7fd2e6f6b9eb94050e814a2e1312057
CREATED;VALUE=DATE-TIME:20080322T000000Z
CATEGORIES:Exposició,Teatre
LOCATION:Museu Marès de la Punta
ORGANIZER:Museu d'Arenys de Mar - Regidoria de Cultura
COMMENT:Preu: Gratuït. Places limitades, inscripció fins al mateix dia
DESCRIPTION:Visites teatralitzades
URL:https://arenysdemar.cat/document.php?id=18412
END:VEVENT
END:VCALENDAR