BEGIN:VCALENDAR
VERSION:2.0
PRODID:-//Plone.org//NONSGML plone.app.event//EN
X-WR-TIMEZONE:Europe/Madrid
BEGIN:VEVENT
SUMMARY:Conferència de Literatura
DTSTART;TZID=Europe/Madrid;VALUE=DATE-TIME:20080304T180000
DTEND;TZID=Europe/Madrid;VALUE=DATE-TIME:20080304T190000
DTSTAMP;VALUE=DATE-TIME:20260424T105055Z
UID:cf83d76a2a077301f4c976507019b1da
CREATED;VALUE=DATE-TIME:20080304T000000Z
CATEGORIES:Conferència
LOCATION:Auditori J.M. Arnau del C.C.Calisay
ORGANIZER:Aula d'Extensió Universitària
DESCRIPTION:Bartra i la literatura de la modernitat a càrrec de Sam Abrams, escriptor i professor de la UOC
URL:https://arenysdemar.cat/document.php?id=18454
END:VEVENT
END:VCALENDAR