BEGIN:VCALENDAR
VERSION:2.0
PRODID:-//Plone.org//NONSGML plone.app.event//EN
X-WR-TIMEZONE:Europe/Madrid
BEGIN:VEVENT
SUMMARY:Mostra de Titelles: Contarelles
DTSTART;TZID=Europe/Madrid;VALUE=DATE-TIME:20080525T183000
DTEND;TZID=Europe/Madrid;VALUE=DATE-TIME:20080525T193000
DTSTAMP;VALUE=DATE-TIME:20260423T150617Z
UID:62b3b27bec3ec9890083c02238d07284
CREATED;VALUE=DATE-TIME:20080525T000000Z
CATEGORIES:Mostra
LOCATION:Plaça de l'Església
ORGANIZER:Regidoria de Cultura i Binixiflat Teatre
DESCRIPTION:a càrrec de L´Estenedor, teatre de titelles
URL:https://arenysdemar.cat/document.php?id=18538
END:VEVENT
END:VCALENDAR