BEGIN:VCALENDAR
VERSION:2.0
PRODID:-//Plone.org//NONSGML plone.app.event//EN
X-WR-TIMEZONE:Europe/Madrid
BEGIN:VEVENT
SUMMARY:XIVa Fira de Dibuix i Pintura
DTSTART;TZID=Europe/Madrid;VALUE=DATE-TIME:20080615T100000
DTEND;TZID=Europe/Madrid;VALUE=DATE-TIME:20080615T110000
DTSTAMP;VALUE=DATE-TIME:20260424T061515Z
UID:7477aec7dfbbfb8621d71f06516ec06c
CREATED;VALUE=DATE-TIME:20080615T000000Z
CATEGORIES:Mostra
LOCATION:Riera
ORGANIZER:Grup d'Artistes Arenyencs
URL:https://arenysdemar.cat/document.php?id=18562
END:VEVENT
END:VCALENDAR