BEGIN:VCALENDAR
VERSION:2.0
PRODID:-//Plone.org//NONSGML plone.app.event//EN
X-WR-TIMEZONE:Europe/Madrid
BEGIN:VEVENT
SUMMARY:Conferència d'Història Contemporània
DTSTART;TZID=Europe/Madrid;VALUE=DATE-TIME:20080401T180000
DTEND;TZID=Europe/Madrid;VALUE=DATE-TIME:20080401T190000
DTSTAMP;VALUE=DATE-TIME:20260420T171047Z
UID:b22f935cb8152478e2cfeebc672aa329
CREATED;VALUE=DATE-TIME:20080401T000000Z
CATEGORIES:Conferència
LOCATION:Auditori J.M. Arnau del C.C.Calisay
ORGANIZER:Aula d'Extensió Universitària
DESCRIPTION:El setè camió a càrrec d'Assumpta Montellà, historiadora
URL:https://arenysdemar.cat/document.php?id=18590
END:VEVENT
END:VCALENDAR