BEGIN:VCALENDAR
VERSION:2.0
PRODID:-//Plone.org//NONSGML plone.app.event//EN
X-WR-TIMEZONE:Europe/Madrid
BEGIN:VEVENT
SUMMARY:Taller de Filosofia: El llenguatge dibuixa la realitat
DTSTART;TZID=Europe/Madrid;VALUE=DATE-TIME:20080505T180000
DTEND;TZID=Europe/Madrid;VALUE=DATE-TIME:20080505T190000
DTSTAMP;VALUE=DATE-TIME:20260423T231030Z
UID:ec341546855ec241a957ce3d1755d45c
CREATED;VALUE=DATE-TIME:20080505T000000Z
CATEGORIES:Conferència
LOCATION:Sala Noble del C.C.Calisay
ORGANIZER:Aula d'Extensió Universitària
COMMENT:Preu: 3 euros
DESCRIPTION:Renaixement: Les paraules vessen de sentit a càrrec d'Andreu Majó
URL:https://arenysdemar.cat/document.php?id=18672
END:VEVENT
END:VCALENDAR