BEGIN:VCALENDAR
VERSION:2.0
PRODID:-//Plone.org//NONSGML plone.app.event//EN
X-WR-TIMEZONE:Europe/Madrid
BEGIN:VEVENT
SUMMARY:IX Torneig Vila d'Arenys de Bàsquet
DTSTART;TZID=Europe/Madrid;VALUE=DATE-TIME:20080501T090000
DTEND;TZID=Europe/Madrid;VALUE=DATE-TIME:20080501T100000
DTSTAMP;VALUE=DATE-TIME:20260420T224623Z
UID:4fd083abb8dc9e17bd2078f175359116
CREATED;VALUE=DATE-TIME:20080501T000000Z
CATEGORIES:Esports
LOCATION:CE Fondo de les Creus
ORGANIZER:Arenys Bàsquet
COMMENT:Durada: Fins al 4 de maig
URL:https://arenysdemar.cat/document.php?id=18680
END:VEVENT
END:VCALENDAR