BEGIN:VCALENDAR
VERSION:2.0
PRODID:-//Plone.org//NONSGML plone.app.event//EN
X-WR-TIMEZONE:Europe/Madrid
BEGIN:VEVENT
SUMMARY:Ball a l'Ateneu
DTSTART;TZID=Europe/Madrid;VALUE=DATE-TIME:20080503T230000
DTEND;TZID=Europe/Madrid;VALUE=DATE-TIME:20080504T000000
DTSTAMP;VALUE=DATE-TIME:20260420T213657Z
UID:c360c4368e1f633a8747b9440775025b
CREATED;VALUE=DATE-TIME:20080503T000000Z
CATEGORIES:Festa
LOCATION:Ateneu Arenyenc
ORGANIZER:Ateneu Arenyenc
DESCRIPTION:amb el trio Maracaibo
URL:https://arenysdemar.cat/document.php?id=18706
END:VEVENT
END:VCALENDAR