BEGIN:VCALENDAR
VERSION:2.0
PRODID:-//Plone.org//NONSGML plone.app.event//EN
X-WR-TIMEZONE:Europe/Madrid
BEGIN:VEVENT
SUMMARY:Ball a l'Ateneu
DTSTART;TZID=Europe/Madrid;VALUE=DATE-TIME:20080531T230000
DTEND;TZID=Europe/Madrid;VALUE=DATE-TIME:20080601T000000
DTSTAMP;VALUE=DATE-TIME:20260423T232210Z
UID:046fa1d8ecdda30a81d1297a3bfff5ec
CREATED;VALUE=DATE-TIME:20080531T000000Z
CATEGORIES:Festa
LOCATION:Ateneu Arenyenc
ORGANIZER:Ateneu Arenyenc
DESCRIPTION:amb l'Odisea Orquestra
URL:https://arenysdemar.cat/document.php?id=18710
END:VEVENT
END:VCALENDAR