BEGIN:VCALENDAR
VERSION:2.0
PRODID:-//Plone.org//NONSGML plone.app.event//EN
X-WR-TIMEZONE:Europe/Madrid
BEGIN:VEVENT
SUMMARY:Caçador de paraules
DTSTART;TZID=Europe/Madrid;VALUE=DATE-TIME:20080703T200000
DTEND;TZID=Europe/Madrid;VALUE=DATE-TIME:20080703T210000
DTSTAMP;VALUE=DATE-TIME:20260420T180000Z
UID:3fd931a78d3abc433149795c4e1d40b8
CREATED;VALUE=DATE-TIME:20080703T000000Z
CATEGORIES:Conferència
LOCATION:Biblioteca
ORGANIZER:Biblioteca - Regidoria de Cultura
DESCRIPTION:a càrrec de Roger de Gràcia
URL:https://arenysdemar.cat/document.php?id=18767
END:VEVENT
END:VCALENDAR