BEGIN:VCALENDAR
VERSION:2.0
PRODID:-//Plone.org//NONSGML plone.app.event//EN
X-WR-TIMEZONE:Europe/Madrid
BEGIN:VEVENT
SUMMARY:Vespre màgic
DTSTART;TZID=Europe/Madrid;VALUE=DATE-TIME:20080706T230000
DTEND;TZID=Europe/Madrid;VALUE=DATE-TIME:20080707T000000
DTSTAMP;VALUE=DATE-TIME:20260423T210623Z
UID:5887c65ae1038497cae921903ef1e25c
CREATED;VALUE=DATE-TIME:20080706T000000Z
CATEGORIES:Festa
LOCATION:Pati del C.C.Calisay
ORGANIZER:Regidoria de Cultura
DESCRIPTION:a càrrec d'Alis Kim & Luna
URL:https://arenysdemar.cat/document.php?id=18809
END:VEVENT
END:VCALENDAR