BEGIN:VCALENDAR
VERSION:2.0
PRODID:-//Plone.org//NONSGML plone.app.event//EN
X-WR-TIMEZONE:Europe/Madrid
BEGIN:VEVENT
SUMMARY:Cercavila musical
DTSTART;TZID=Europe/Madrid;VALUE=DATE-TIME:20080709T100000
DTEND;TZID=Europe/Madrid;VALUE=DATE-TIME:20080709T110000
DTSTAMP;VALUE=DATE-TIME:20260423T170154Z
UID:8be5260a1cfb0be38c577107a5944df1
CREATED;VALUE=DATE-TIME:20080709T000000Z
CATEGORIES:Música
LOCATION:Passeig de Ronda i Plaça Lloveras
ORGANIZER:Regidoria de Cultura
DESCRIPTION:a càrrec de Los Labradores
URL:https://arenysdemar.cat/document.php?id=18821
END:VEVENT
END:VCALENDAR