BEGIN:VCALENDAR
VERSION:2.0
PRODID:-//Plone.org//NONSGML plone.app.event//EN
X-WR-TIMEZONE:Europe/Madrid
BEGIN:VEVENT
SUMMARY:I Torneig Cóndor Infantil de futbol
DTSTART;TZID=Europe/Madrid;VALUE=DATE-TIME:20080607T090000
DTEND;TZID=Europe/Madrid;VALUE=DATE-TIME:20080607T100000
DTSTAMP;VALUE=DATE-TIME:20260423T170140Z
UID:894af7a93c1f7ef37519cc5482436fe5
CREATED;VALUE=DATE-TIME:20080607T000000Z
CATEGORIES:Esports
LOCATION:Camp de Futbol
ORGANIZER:Club Futbol Arenys de Mar. Col·labora Cóndor
URL:https://arenysdemar.cat/document.php?id=18860
END:VEVENT
END:VCALENDAR